{
 "currentVersion": 10.91,
 "serviceDescription": "",
 "mapName": "Layers",
 "description": "",
 "copyrightText": "",
 "supportsDynamicLayers": true,
 "layers": [
  {
   "id": 0,
   "name": "Annotations100000",
   "parentLayerId": -1,
   "defaultVisibility": true,
   "subLayerIds": [
    1
   ],
   "minScale": 100001,
   "maxScale": 99999,
   "type": "Annotation Layer",
   "geometryType": "esriGeometryPolygon"
  },
  {
   "id": 1,
   "name": "Default",
   "parentLayerId": 0,
   "defaultVisibility": true,
   "subLayerIds": null,
   "minScale": 0,
   "maxScale": 0
  },
  {
   "id": 2,
   "name": "Annotations150000",
   "parentLayerId": -1,
   "defaultVisibility": true,
   "subLayerIds": [
    3
   ],
   "minScale": 150001,
   "maxScale": 149999,
   "type": "Annotation Layer",
   "geometryType": "esriGeometryPolygon"
  },
  {
   "id": 3,
   "name": "Default",
   "parentLayerId": 2,
   "defaultVisibility": true,
   "subLayerIds": null,
   "minScale": 0,
   "maxScale": 0
  },
  {
   "id": 4,
   "name": "Annotations250000",
   "parentLayerId": -1,
   "defaultVisibility": true,
   "subLayerIds": [
    5
   ],
   "minScale": 250001,
   "maxScale": 249999,
   "type": "Annotation Layer",
   "geometryType": "esriGeometryPolygon"
  },
  {
   "id": 5,
   "name": "Default",
   "parentLayerId": 4,
   "defaultVisibility": true,
   "subLayerIds": null,
   "minScale": 0,
   "maxScale": 0
  },
  {
   "id": 6,
   "name": "Étiquette Villes",
   "parentLayerId": -1,
   "defaultVisibility": true,
   "subLayerIds": [
    7,
    8,
    9,
    10
   ],
   "minScale": 0,
   "maxScale": 0,
   "type": "Group Layer"
  },
  {
   "id": 7,
   "name": "Ville de Québec - 250000",
   "parentLayerId": 6,
   "defaultVisibility": true,
   "subLayerIds": null,
   "minScale": 0,
   "maxScale": 0,
   "type": "Feature Layer",
   "geometryType": "esriGeometryPolygon"
  },
  {
   "id": 8,
   "name": "Étiquette Villes - 250000",
   "parentLayerId": 6,
   "defaultVisibility": true,
   "subLayerIds": null,
   "minScale": 255001,
   "maxScale": 150002,
   "type": "Feature Layer",
   "geometryType": "esriGeometryPolygon"
  },
  {
   "id": 9,
   "name": "Étiquette Villes annexe - 150000",
   "parentLayerId": 6,
   "defaultVisibility": true,
   "subLayerIds": null,
   "minScale": 150001,
   "maxScale": 100002,
   "type": "Feature Layer",
   "geometryType": "esriGeometryPolygon"
  },
  {
   "id": 10,
   "name": "Étiquette Villes annexes",
   "parentLayerId": 6,
   "defaultVisibility": true,
   "subLayerIds": null,
   "minScale": 100001,
   "maxScale": 0,
   "type": "Feature Layer",
   "geometryType": "esriGeometryPolygon"
  },
  {
   "id": 11,
   "name": "Sens unique",
   "parentLayerId": -1,
   "defaultVisibility": true,
   "subLayerIds": null,
   "minScale": 5001,
   "maxScale": 0,
   "type": "Feature Layer",
   "geometryType": "esriGeometryPolyline"
  },
  {
   "id": 12,
   "name": "Voie ferrée",
   "parentLayerId": -1,
   "defaultVisibility": true,
   "subLayerIds": null,
   "minScale": 255001,
   "maxScale": 0,
   "type": "Feature Layer",
   "geometryType": "esriGeometryPolyline"
  },
  {
   "id": 13,
   "name": "Routes et étiquettes",
   "parentLayerId": -1,
   "defaultVisibility": true,
   "subLayerIds": [
    14,
    27
   ],
   "minScale": 0,
   "maxScale": 0,
   "type": "Group Layer"
  },
  {
   "id": 14,
   "name": "Etiquettes",
   "parentLayerId": 13,
   "defaultVisibility": true,
   "subLayerIds": [
    15,
    19,
    21,
    24
   ],
   "minScale": 0,
   "maxScale": 0,
   "type": "Group Layer"
  },
  {
   "id": 15,
   "name": "10000",
   "parentLayerId": 14,
   "defaultVisibility": true,
   "subLayerIds": [
    16,
    17,
    18
   ],
   "minScale": 10001,
   "maxScale": 9999,
   "type": "Group Layer"
  },
  {
   "id": 16,
   "name": "Étiquette artériel ",
   "parentLayerId": 15,
   "defaultVisibility": true,
   "subLayerIds": null,
   "minScale": 0,
   "maxScale": 0,
   "type": "Feature Layer",
   "geometryType": "esriGeometryPolyline"
  },
  {
   "id": 17,
   "name": "Étiquette autoroute ",
   "parentLayerId": 15,
   "defaultVisibility": true,
   "subLayerIds": null,
   "minScale": 0,
   "maxScale": 0,
   "type": "Feature Layer",
   "geometryType": "esriGeometryPolyline"
  },
  {
   "id": 18,
   "name": "Étiquette local",
   "parentLayerId": 15,
   "defaultVisibility": true,
   "subLayerIds": null,
   "minScale": 0,
   "maxScale": 0,
   "type": "Feature Layer",
   "geometryType": "esriGeometryPolyline"
  },
  {
   "id": 19,
   "name": "20000",
   "parentLayerId": 14,
   "defaultVisibility": true,
   "subLayerIds": [
    20
   ],
   "minScale": 20001,
   "maxScale": 19999,
   "type": "Group Layer"
  },
  {
   "id": 20,
   "name": "Étiquette local",
   "parentLayerId": 19,
   "defaultVisibility": true,
   "subLayerIds": null,
   "minScale": 0,
   "maxScale": 0,
   "type": "Feature Layer",
   "geometryType": "esriGeometryPolyline"
  },
  {
   "id": 21,
   "name": "20000 à 35000",
   "parentLayerId": 14,
   "defaultVisibility": true,
   "subLayerIds": [
    22,
    23
   ],
   "minScale": 35001,
   "maxScale": 19999,
   "type": "Group Layer"
  },
  {
   "id": 22,
   "name": "Étiquette artériel ",
   "parentLayerId": 21,
   "defaultVisibility": true,
   "subLayerIds": null,
   "minScale": 0,
   "maxScale": 0,
   "type": "Feature Layer",
   "geometryType": "esriGeometryPolyline"
  },
  {
   "id": 23,
   "name": "Étiquette autoroute ",
   "parentLayerId": 21,
   "defaultVisibility": true,
   "subLayerIds": null,
   "minScale": 0,
   "maxScale": 0,
   "type": "Feature Layer",
   "geometryType": "esriGeometryPolyline"
  },
  {
   "id": 24,
   "name": "50000 à 100000",
   "parentLayerId": 14,
   "defaultVisibility": true,
   "subLayerIds": [
    25,
    26
   ],
   "minScale": 100001,
   "maxScale": 49999,
   "type": "Group Layer"
  },
  {
   "id": 25,
   "name": "Étiquette artériel",
   "parentLayerId": 24,
   "defaultVisibility": true,
   "subLayerIds": null,
   "minScale": 0,
   "maxScale": 0,
   "type": "Feature Layer",
   "geometryType": "esriGeometryPolyline"
  },
  {
   "id": 26,
   "name": "Étiquette autoroute",
   "parentLayerId": 24,
   "defaultVisibility": true,
   "subLayerIds": null,
   "minScale": 0,
   "maxScale": 0,
   "type": "Feature Layer",
   "geometryType": "esriGeometryPolyline"
  },
  {
   "id": 27,
   "name": "Routes",
   "parentLayerId": 13,
   "defaultVisibility": true,
   "subLayerIds": [
    28,
    32,
    37
   ],
   "minScale": 0,
   "maxScale": 0,
   "type": "Group Layer"
  },
  {
   "id": 28,
   "name": "100000 à 250000",
   "parentLayerId": 27,
   "defaultVisibility": true,
   "subLayerIds": [
    29,
    30,
    31
   ],
   "minScale": 255001,
   "maxScale": 99999,
   "type": "Group Layer"
  },
  {
   "id": 29,
   "name": "Autoroute",
   "parentLayerId": 28,
   "defaultVisibility": true,
   "subLayerIds": null,
   "minScale": 0,
   "maxScale": 0,
   "type": "Feature Layer",
   "geometryType": "esriGeometryPolyline"
  },
  {
   "id": 30,
   "name": "Artériel ",
   "parentLayerId": 28,
   "defaultVisibility": true,
   "subLayerIds": null,
   "minScale": 0,
   "maxScale": 0,
   "type": "Feature Layer",
   "geometryType": "esriGeometryPolyline"
  },
  {
   "id": 31,
   "name": "Artériel 2 ",
   "parentLayerId": 28,
   "defaultVisibility": true,
   "subLayerIds": null,
   "minScale": 0,
   "maxScale": 0,
   "type": "Feature Layer",
   "geometryType": "esriGeometryPolyline"
  },
  {
   "id": 32,
   "name": "10000 à 50000",
   "parentLayerId": 27,
   "defaultVisibility": true,
   "subLayerIds": [
    33,
    34,
    35,
    36
   ],
   "minScale": 50001,
   "maxScale": 9999,
   "type": "Group Layer"
  },
  {
   "id": 33,
   "name": "Autoroute",
   "parentLayerId": 32,
   "defaultVisibility": true,
   "subLayerIds": null,
   "minScale": 0,
   "maxScale": 0,
   "type": "Feature Layer",
   "geometryType": "esriGeometryPolyline"
  },
  {
   "id": 34,
   "name": "Artériel ",
   "parentLayerId": 32,
   "defaultVisibility": true,
   "subLayerIds": null,
   "minScale": 0,
   "maxScale": 0,
   "type": "Feature Layer",
   "geometryType": "esriGeometryPolyline"
  },
  {
   "id": 35,
   "name": "Artériel 2",
   "parentLayerId": 32,
   "defaultVisibility": true,
   "subLayerIds": null,
   "minScale": 0,
   "maxScale": 0,
   "type": "Feature Layer",
   "geometryType": "esriGeometryPolyline"
  },
  {
   "id": 36,
   "name": "Local",
   "parentLayerId": 32,
   "defaultVisibility": true,
   "subLayerIds": null,
   "minScale": 0,
   "maxScale": 0,
   "type": "Feature Layer",
   "geometryType": "esriGeometryPolyline"
  },
  {
   "id": 37,
   "name": "0 à 5000",
   "parentLayerId": 27,
   "defaultVisibility": true,
   "subLayerIds": [
    38,
    39,
    40,
    41
   ],
   "minScale": 5001,
   "maxScale": 0,
   "type": "Group Layer"
  },
  {
   "id": 38,
   "name": "Autoroute",
   "parentLayerId": 37,
   "defaultVisibility": true,
   "subLayerIds": null,
   "minScale": 0,
   "maxScale": 0,
   "type": "Feature Layer",
   "geometryType": "esriGeometryPolyline"
  },
  {
   "id": 39,
   "name": "Artériel ",
   "parentLayerId": 37,
   "defaultVisibility": true,
   "subLayerIds": null,
   "minScale": 0,
   "maxScale": 0,
   "type": "Feature Layer",
   "geometryType": "esriGeometryPolyline"
  },
  {
   "id": 40,
   "name": "Artériel 2 ",
   "parentLayerId": 37,
   "defaultVisibility": true,
   "subLayerIds": null,
   "minScale": 0,
   "maxScale": 0,
   "type": "Feature Layer",
   "geometryType": "esriGeometryPolyline"
  },
  {
   "id": 41,
   "name": "Local",
   "parentLayerId": 37,
   "defaultVisibility": true,
   "subLayerIds": null,
   "minScale": 0,
   "maxScale": 0,
   "type": "Feature Layer",
   "geometryType": "esriGeometryPolyline"
  },
  {
   "id": 42,
   "name": "PisteAeroport",
   "parentLayerId": -1,
   "defaultVisibility": true,
   "subLayerIds": null,
   "minScale": 50001,
   "maxScale": 0,
   "type": "Feature Layer",
   "geometryType": "esriGeometryPolygon"
  },
  {
   "id": 43,
   "name": "Hydrographie",
   "parentLayerId": -1,
   "defaultVisibility": true,
   "subLayerIds": [
    44,
    45,
    46,
    47,
    48
   ],
   "minScale": 0,
   "maxScale": 0,
   "type": "Group Layer"
  },
  {
   "id": 44,
   "name": "Cours d'eau surfacique 150000 à 250000",
   "parentLayerId": 43,
   "defaultVisibility": true,
   "subLayerIds": null,
   "minScale": 255002,
   "maxScale": 100002,
   "type": "Feature Layer",
   "geometryType": "esriGeometryPolygon"
  },
  {
   "id": 45,
   "name": "Cours d'eau surfacique 50000 à 100000",
   "parentLayerId": 43,
   "defaultVisibility": true,
   "subLayerIds": null,
   "minScale": 100001,
   "maxScale": 35002,
   "type": "Feature Layer",
   "geometryType": "esriGeometryPolygon"
  },
  {
   "id": 46,
   "name": "Cours d'eau surfacique 35000",
   "parentLayerId": 43,
   "defaultVisibility": true,
   "subLayerIds": null,
   "minScale": 35001,
   "maxScale": 34999,
   "type": "Feature Layer",
   "geometryType": "esriGeometryPolygon"
  },
  {
   "id": 47,
   "name": "Cours d'eau surfacique 0 - 20000",
   "parentLayerId": 43,
   "defaultVisibility": true,
   "subLayerIds": null,
   "minScale": 20001,
   "maxScale": 0,
   "type": "Feature Layer",
   "geometryType": "esriGeometryPolygon"
  },
  {
   "id": 48,
   "name": "hyd_Cours d'eau linéaire 0 - 20000",
   "parentLayerId": 43,
   "defaultVisibility": true,
   "subLayerIds": null,
   "minScale": 20001,
   "maxScale": 0,
   "type": "Feature Layer",
   "geometryType": "esriGeometryPolyline"
  },
  {
   "id": 49,
   "name": "Fond - Ville 1500002 - 250000",
   "parentLayerId": -1,
   "defaultVisibility": true,
   "subLayerIds": null,
   "minScale": 255001,
   "maxScale": 150002,
   "type": "Feature Layer",
   "geometryType": "esriGeometryPolygon"
  },
  {
   "id": 50,
   "name": "Fond Ville 0 - 500002",
   "parentLayerId": -1,
   "defaultVisibility": true,
   "subLayerIds": null,
   "minScale": 500002,
   "maxScale": 0,
   "type": "Feature Layer",
   "geometryType": "esriGeometryPolygon"
  },
  {
   "id": 51,
   "name": "Limite AncLor - StAug - 5002 - 250000",
   "parentLayerId": -1,
   "defaultVisibility": true,
   "subLayerIds": null,
   "minScale": 255000,
   "maxScale": 0,
   "type": "Feature Layer",
   "geometryType": "esriGeometryPolygon"
  },
  {
   "id": 52,
   "name": "MasqueCMQ",
   "parentLayerId": -1,
   "defaultVisibility": false,
   "subLayerIds": null,
   "minScale": 0,
   "maxScale": 0,
   "type": "Feature Layer",
   "geometryType": "esriGeometryPolygon"
  },
  {
   "id": 53,
   "name": "Arrondissement 0-1000",
   "parentLayerId": -1,
   "defaultVisibility": true,
   "subLayerIds": null,
   "minScale": 1001,
   "maxScale": 0,
   "type": "Feature Layer",
   "geometryType": "esriGeometryPolygon"
  }
 ],
 "tables": [],
 "spatialReference": {
  "wkid": 32187,
  "latestWkid": 32187
 },
 "singleFusedMapCache": true,
 "tileInfo": {
  "rows": 256,
  "cols": 256,
  "dpi": 96,
  "format": "PNG32",
  "compressionQuality": 0,
  "origin": {
   "x": -5317800,
   "y": 10001100
  },
  "spatialReference": {
   "wkid": 32187,
   "latestWkid": 32187
  },
  "lods": [
   {
    "level": 0,
    "resolution": 66.1459656252646,
    "scale": 250000
   },
   {
    "level": 1,
    "resolution": 39.687579375158755,
    "scale": 150000
   },
   {
    "level": 2,
    "resolution": 26.458386250105836,
    "scale": 100000
   },
   {
    "level": 3,
    "resolution": 13.229193125052918,
    "scale": 50000
   },
   {
    "level": 4,
    "resolution": 9.260435187537043,
    "scale": 35000
   },
   {
    "level": 5,
    "resolution": 5.291677250021167,
    "scale": 20000
   },
   {
    "level": 6,
    "resolution": 2.6458386250105836,
    "scale": 10000
   },
   {
    "level": 7,
    "resolution": 1.3229193125052918,
    "scale": 5000
   },
   {
    "level": 8,
    "resolution": 0.6614596562526459,
    "scale": 2500
   },
   {
    "level": 9,
    "resolution": 0.26458386250105836,
    "scale": 1000
   },
   {
    "level": 10,
    "resolution": 0.13229193125052918,
    "scale": 500
   },
   {
    "level": 11,
    "resolution": 0.06614596562526459,
    "scale": 250
   }
  ]
 },
 "initialExtent": {
  "xmin": 242235.8186151262,
  "ymin": 5184801.032572115,
  "xmax": 242649.36319221533,
  "ymax": 5184958.459970303,
  "spatialReference": {
   "wkid": 32187,
   "latestWkid": 32187
  }
 },
 "fullExtent": {
  "xmin": 220308.365,
  "ymin": 5172745.7505,
  "xmax": 257548.1465,
  "ymax": 5204992.533,
  "spatialReference": {
   "wkid": 32187,
   "latestWkid": 32187
  }
 },
 "minScale": 250000,
 "maxScale": 250,
 "units": "esriMeters",
 "supportedImageFormatTypes": "PNG32,PNG24,PNG,JPG,DIB,TIFF,EMF,PS,PDF,GIF,SVG,SVGZ,BMP",
 "documentInfo": {
  "Title": "",
  "Author": "",
  "Comments": "",
  "Subject": "",
  "Category": "",
  "AntialiasingMode": "None",
  "TextAntialiasingMode": "Force",
  "Keywords": ""
 },
 "capabilities": "Map,Query,Data",
 "supportedQueryFormats": "JSON, geoJSON",
 "exportTilesAllowed": false,
 "referenceScale": 0,
 "datumTransformations": [
  {
   "geoTransforms": [
    {
     "wkid": 108001,
     "latestWkid": 1241,
     "transformForward": true,
     "name": "NAD_1927_To_NAD_1983_NADCON"
    }
   ]
  },
  {
   "geoTransforms": [
    {
     "wkid": 108001,
     "latestWkid": 1241,
     "transformForward": false,
     "name": "NAD_1927_To_NAD_1983_NADCON"
    }
   ]
  }
 ],
 "supportsDatumTransformation": true,
 "maxRecordCount": 1000,
 "maxImageHeight": 4096,
 "maxImageWidth": 4096,
 "supportedExtensions": "KmlServer"
}
